BEGIN:VCALENDAR
PRODID:-//Feedo Feed//NONSGML v1.0//EN
VERSION:2.0
CALSCALE:GREGORIAN
METHOD:PUBLISH
X-WR-CALNAME:Owen Axelberd
X-WR-CALDESC:Ensemble. 
X-MS-OLK-FORCEINSPECTOROPEN:TRUE
BEGIN:VEVENT
DTSTAMP:20260420T221009Z
DTSTART:20210301T170000Z
DTEND:20210301T180000Z
TRANSP:TRANSPARENT
UID:919932021-03-01
SUMMARY:Owen Axelberd
DESCRIPTION:Ensemble. 
URL:http://www.cmcatlanta.com/index.php/component/ohanah/owen-axelberd-27?format=html&amp;Itemid=
CATEGORIES:Jenn Cornell
GEO:33.7646878;-84.35068100000001
LOCATION:CMC Little 5 Points, Private Lesson
END:VEVENT
END:VCALENDAR