BEGIN:VCALENDAR
PRODID:-//Feedo Feed//NONSGML v1.0//EN
VERSION:2.0
CALSCALE:GREGORIAN
METHOD:PUBLISH
X-WR-CALNAME:Owen Axelberd
X-WR-CALDESC:
X-MS-OLK-FORCEINSPECTOROPEN:TRUE
BEGIN:VEVENT
DTSTAMP:20260420T195133Z
DTSTART:20220426T140000Z
DTEND:20220426T150000Z
TRANSP:TRANSPARENT
UID:993952022-04-26
SUMMARY:Owen Axelberd
DESCRIPTION:
URL:http://www.cmcatlanta.com/index.php/component/ohanah/owen-axelberd-86?format=html&amp;Itemid=
CATEGORIES:Peter Sloan
GEO:33.7646878;-84.35068100000001
LOCATION:CMC Little 5 Points, Private Lesson
END:VEVENT
END:VCALENDAR