BEGIN:VCALENDAR
PRODID:-//Feedo Feed//NONSGML v1.0//EN
VERSION:2.0
CALSCALE:GREGORIAN
METHOD:PUBLISH
X-WR-CALNAME:Owen Lipscomb
X-WR-CALDESC:
X-MS-OLK-FORCEINSPECTOROPEN:TRUE
BEGIN:VEVENT
DTSTAMP:20260422T224013Z
DTSTART:20230302T193000Z
DTEND:20230302T200000Z
TRANSP:TRANSPARENT
UID:1107582023-03-02
SUMMARY:Owen Lipscomb
DESCRIPTION:
URL:http://www.cmcatlanta.com/index.php/component/ohanah/owen-lipscomb-5?format=html&amp;Itemid=
CATEGORIES:Khesner Oliveira
GEO:33.7704955;-84.29584339999997
LOCATION:CMC Decatur, Private Lesson
END:VEVENT
END:VCALENDAR