BEGIN:VCALENDAR
PRODID:-//Feedo Feed//NONSGML v1.0//EN
VERSION:2.0
CALSCALE:GREGORIAN
METHOD:PUBLISH
X-WR-CALNAME:Pela Hammock
X-WR-CALDESC:online\n 
X-MS-OLK-FORCEINSPECTOROPEN:TRUE
BEGIN:VEVENT
DTSTAMP:20260420T212701Z
DTSTART:20210127T213000Z
DTEND:20210127T220000Z
TRANSP:TRANSPARENT
UID:927782021-01-27
SUMMARY:Pela Hammock
DESCRIPTION:online\n 
URL:http://www.cmcatlanta.com/index.php/component/ohanah/pela-hammock-7?format=html&amp;Itemid=
CATEGORIES:Diana Orozco
GEO:33.7646878;-84.35068100000001
LOCATION:CMC Little 5 Points, Private Lesson
END:VEVENT
END:VCALENDAR