BEGIN:VCALENDAR
PRODID:-//Feedo Feed//NONSGML v1.0//EN
VERSION:2.0
CALSCALE:GREGORIAN
METHOD:PUBLISH
X-WR-CALNAME:Performance Workshop, Decatur Session 6
X-WR-CALDESC:CMC Little 5 Points\nSession 1: June 13-17\nSession 2: June 20-24\nSession 3: June 27-July 1\nCMC Decatur\nSession 4: July 11-15\nSession 5: July 18-22\nSession 6: July 25-29\nCMC Atlanta Summer {erofrmance Workshop Showcases: July 1, July 29 
X-MS-OLK-FORCEINSPECTOROPEN:TRUE
BEGIN:VEVENT
DTSTAMP:20260421T170756Z
DTSTART:20220725T130000Z
DTEND:20220729T190000Z
TRANSP:TRANSPARENT
UID:1054562022-07-25
SUMMARY:Performance Workshop, Decatur Session 6
DESCRIPTION:CMC Little 5 Points\nSession 1: June 13-17\nSession 2: June 20-24\nSession 3: June 27-July 1\nCMC Decatur\nSession 4: July 11-15\nSession 5: July 18-22\nSession 6: July 25-29\nCMC Atlanta Summer {erofrmance Workshop Showcases: July 1, July 29 
URL:http://www.cmcatlanta.com/index.php/component/ohanah/performance-workshop-decatur-session-6?format=html&amp;Itemid=
CATEGORIES:Performance & Production Workshops
GEO:33.7704955;-84.29584339999997
LOCATION:CMC Decatur
END:VEVENT
END:VCALENDAR