BEGIN:VCALENDAR
PRODID:-//Feedo Feed//NONSGML v1.0//EN
VERSION:2.0
CALSCALE:GREGORIAN
METHOD:PUBLISH
X-WR-CALNAME:Piano Camp 2
X-WR-CALDESC:
X-MS-OLK-FORCEINSPECTOROPEN:TRUE
BEGIN:VEVENT
DTSTAMP:20260423T022622Z
DTSTART:20210806T120000Z
DTEND:20210806T170000Z
TRANSP:TRANSPARENT
UID:963452021-08-06
SUMMARY:Piano Camp 2
DESCRIPTION:
URL:http://www.cmcatlanta.com/index.php/component/ohanah/piano-camp-2-9-1?format=html&amp;Itemid=
CATEGORIES:Stephanie Cordoba 
GEO:33.764702;-84.35057239999998
LOCATION:CMC Little Five Points, Faculty Assignment
END:VEVENT
END:VCALENDAR