BEGIN:VCALENDAR
PRODID:-//Feedo Feed//NONSGML v1.0//EN
VERSION:2.0
CALSCALE:GREGORIAN
METHOD:PUBLISH
X-WR-CALNAME:Piano Camp 2 Little 5 Points
X-WR-CALDESC:
X-MS-OLK-FORCEINSPECTOROPEN:TRUE
BEGIN:VEVENT
DTSTAMP:20260421T191032Z
DTSTART:20220805T120000Z
DTEND:20220805T190000Z
TRANSP:TRANSPARENT
UID:1062622022-08-05
SUMMARY:Piano Camp 2 Little 5 Points
DESCRIPTION:
URL:http://www.cmcatlanta.com/index.php/component/ohanah/piano-camp-2-little-5-points-2?format=html&amp;Itemid=
CATEGORIES:Jack Lloyd
GEO:33.764702;-84.35057239999998
LOCATION:CMC Little Five Points, Faculty Assignment
END:VEVENT
END:VCALENDAR