BEGIN:VCALENDAR
PRODID:-//Feedo Feed//NONSGML v1.0//EN
VERSION:2.0
CALSCALE:GREGORIAN
METHOD:PUBLISH
X-WR-CALNAME:Piano Camp : Daily Lesson Plans
X-WR-CALDESC:8:00 Check in:\n\nstudents sign in, put their things away and then have quiet choices until 9:00am.\n\n\n9:00 - 9:15:\n\nCircle time, gather students, learn names.  Go over music center inside boundaries and expectations.\n\n\n9:15-10:15: EveryDay Sing: \n\nChinese Folk Song, Apples and Bananas, Piano Man, Piano Man Lyrics.\n\n\n10:15-10:45:\n\nMorning fruit break. \n\nGo over outside expectations, and boundaries.\n\n\n10:45-12:00:\n\nReview solfege, note names, treble and bass clef, staff, lines and spaces, etc.  \n\nQueen Treble/King Bass song.  \n\n\n12:00-1:00: \n\nLunch and outside/free choice time.\n\n\n1:00-2:00: \n\nReview Chinese Folk Song, etc; solfege, note names, treble and bass clef, staff lines, etc.  Play Finger Twister. \n\n\n2:00-2:30:\n\nAfternoon fruit break. \n\n\n2:30-4:00: \n\nListening Stream.  Feel free to add in additional piano pieces, styles, genres, etc. Then break students off in to groups and go over finger patterns, c scale, scalapalooza.\n\n\n4:00-6:00:\n\nFree choices and practicing\n\n
X-MS-OLK-FORCEINSPECTOROPEN:TRUE
BEGIN:VEVENT
DTSTAMP:20260422T104810Z
DTSTART:20210604T120000Z
DTEND:20210604T220000Z
TRANSP:TRANSPARENT
UID:756072021-06-04
SUMMARY:Piano Camp : Daily Lesson Plans
DESCRIPTION:8:00 Check in:\n\nstudents sign in, put their things away and then have quiet choices until 9:00am.\n\n\n9:00 - 9:15:\n\nCircle time, gather students, learn names.  Go over music center inside boundaries and expectations.\n\n\n9:15-10:15: EveryDay Sing: \n\nChinese Folk Song, Apples and Bananas, Piano Man, Piano Man Lyrics.\n\n\n10:15-10:45:\n\nMorning fruit break. \n\nGo over outside expectations, and boundaries.\n\n\n10:45-12:00:\n\nReview solfege, note names, treble and bass clef, staff, lines and spaces, etc.  \n\nQueen Treble/King Bass song.  \n\n\n12:00-1:00: \n\nLunch and outside/free choice time.\n\n\n1:00-2:00: \n\nReview Chinese Folk Song, etc; solfege, note names, treble and bass clef, staff lines, etc.  Play Finger Twister. \n\n\n2:00-2:30:\n\nAfternoon fruit break. \n\n\n2:30-4:00: \n\nListening Stream.  Feel free to add in additional piano pieces, styles, genres, etc. Then break students off in to groups and go over finger patterns, c scale, scalapalooza.\n\n\n4:00-6:00:\n\nFree choices and practicing\n\n
URL:http://www.cmcatlanta.com/index.php/component/ohanah/piano-camp-daily-lesson-plans-1?format=html&amp;Itemid=
CATEGORIES:Daily Lesson Plans
GEO:33.7705095;-84.29586770000003
LOCATION:CMC Decatur, Faculty Assignment
END:VEVENT
END:VCALENDAR