BEGIN:VCALENDAR
PRODID:-//Feedo Feed//NONSGML v1.0//EN
VERSION:2.0
CALSCALE:GREGORIAN
METHOD:PUBLISH
X-WR-CALNAME:Piano Camp Dunwoody
X-WR-CALDESC:
X-MS-OLK-FORCEINSPECTOROPEN:TRUE
BEGIN:VEVENT
DTSTAMP:20260421T175251Z
DTSTART:20220727T120000Z
DTEND:20220727T170000Z
TRANSP:TRANSPARENT
UID:1055852022-07-27
SUMMARY:Piano Camp Dunwoody
DESCRIPTION:
URL:http://www.cmcatlanta.com/index.php/component/ohanah/piano-camp-dunwoody-10?format=html&amp;Itemid=
CATEGORIES:Johanna Millin
GEO:33.94902;-84.33631689999999
LOCATION:CMC Dunwoody, Faculty Assignment
END:VEVENT
END:VCALENDAR