BEGIN:VCALENDAR
PRODID:-//Feedo Feed//NONSGML v1.0//EN
VERSION:2.0
CALSCALE:GREGORIAN
METHOD:PUBLISH
X-WR-CALNAME:Piano Camp Dunwoody
X-WR-CALDESC:
X-MS-OLK-FORCEINSPECTOROPEN:TRUE
BEGIN:VEVENT
DTSTAMP:20260421T102724Z
DTSTART:20220603T160000Z
DTEND:20220603T220000Z
TRANSP:TRANSPARENT
UID:1055062022-06-03
SUMMARY:Piano Camp Dunwoody
DESCRIPTION:
URL:http://www.cmcatlanta.com/index.php/component/ohanah/piano-camp-dunwoody-7?format=html&amp;Itemid=
CATEGORIES:Whittaker Dallas
GEO:33.94902;-84.33631689999999
LOCATION:CMC Dunwoody, Faculty Assignment
END:VEVENT
END:VCALENDAR