BEGIN:VCALENDAR
PRODID:-//Feedo Feed//NONSGML v1.0//EN
VERSION:2.0
CALSCALE:GREGORIAN
METHOD:PUBLISH
X-WR-CALNAME:Pick up Libby Coleman
X-WR-CALDESC:
X-MS-OLK-FORCEINSPECTOROPEN:TRUE
BEGIN:VEVENT
DTSTAMP:20260422T115655Z
DTSTART:20210614T160000Z
DTEND:20210614T161500Z
TRANSP:TRANSPARENT
UID:956662021-06-14
SUMMARY:Pick up Libby Coleman
DESCRIPTION:
URL:http://www.cmcatlanta.com/index.php/component/ohanah/pick-up-libby-coleman?format=html&amp;Itemid=
CATEGORIES:Peter Sloan
GEO:33.7704955;-84.29584339999997
LOCATION:CMC Decatur, Private Lesson
END:VEVENT
END:VCALENDAR