BEGIN:VCALENDAR
PRODID:-//Feedo Feed//NONSGML v1.0//EN
VERSION:2.0
CALSCALE:GREGORIAN
METHOD:PUBLISH
X-WR-CALNAME:Piper Davis
X-WR-CALDESC:In person lesson. \nPiper attends the after school program.
X-MS-OLK-FORCEINSPECTOROPEN:TRUE
BEGIN:VEVENT
DTSTAMP:20260420T095001Z
DTSTART:20210115T193000Z
DTEND:20210115T200000Z
TRANSP:TRANSPARENT
UID:931712021-01-15
SUMMARY:Piper Davis
DESCRIPTION:In person lesson. \nPiper attends the after school program.
URL:http://www.cmcatlanta.com/index.php/component/ohanah/piper-davis-19?format=html&amp;Itemid=
CATEGORIES:Peter Sloan
GEO:33.7704955;-84.29584339999997
LOCATION:CMC Decatur, Private Lesson
END:VEVENT
END:VCALENDAR