BEGIN:VCALENDAR
PRODID:-//Feedo Feed//NONSGML v1.0//EN
VERSION:2.0
CALSCALE:GREGORIAN
METHOD:PUBLISH
X-WR-CALNAME:Rachel Gill
X-WR-CALDESC:online lessons
X-MS-OLK-FORCEINSPECTOROPEN:TRUE
BEGIN:VEVENT
DTSTAMP:20260421T055605Z
DTSTART:20210424T140000Z
DTEND:20210424T143000Z
TRANSP:TRANSPARENT
UID:949272021-04-24
SUMMARY:Rachel Gill
DESCRIPTION:online lessons
URL:http://www.cmcatlanta.com/index.php/component/ohanah/rachel-gill-14?format=html&amp;Itemid=
CATEGORIES:Peter Sloan
GEO:33.7704955;-84.29584339999997
LOCATION:CMC Decatur, Private Lesson
END:VEVENT
END:VCALENDAR