BEGIN:VCALENDAR
PRODID:-//Feedo Feed//NONSGML v1.0//EN
VERSION:2.0
CALSCALE:GREGORIAN
METHOD:PUBLISH
X-WR-CALNAME:Rafaela Alexandra Lopes da Fonesca
X-WR-CALDESC:
X-MS-OLK-FORCEINSPECTOROPEN:TRUE
BEGIN:VEVENT
DTSTAMP:20260420T101322Z
DTSTART:20200225T203000Z
DTEND:20200225T210000Z
TRANSP:TRANSPARENT
UID:889012020-02-25
SUMMARY:Rafaela Alexandra Lopes da Fonesca
DESCRIPTION:
URL:http://www.cmcatlanta.com/index.php/component/ohanah/rafaela-alexandra-lopes-da-fonesca-3?format=html&amp;Itemid=
CATEGORIES:Andre Fountain
GEO:33.7704955;-84.29584339999997
LOCATION:CMC Decatur, Private Lesson
END:VEVENT
END:VCALENDAR