BEGIN:VCALENDAR
PRODID:-//Feedo Feed//NONSGML v1.0//EN
VERSION:2.0
CALSCALE:GREGORIAN
METHOD:PUBLISH
X-WR-CALNAME:Reena Gouldbourne
X-WR-CALDESC:
X-MS-OLK-FORCEINSPECTOROPEN:TRUE
BEGIN:VEVENT
DTSTAMP:20260421T201913Z
DTSTART:20230112T143000Z
DTEND:20230112T153000Z
TRANSP:TRANSPARENT
UID:1087732023-01-12
SUMMARY:Reena Gouldbourne
DESCRIPTION:
URL:http://www.cmcatlanta.com/index.php/component/ohanah/reena-gouldbourne-23?format=html&amp;Itemid=
CATEGORIES:Jenn Cornell
GEO:33.7704955;-84.29584339999997
LOCATION:CMC Decatur, Private Lesson
END:VEVENT
END:VCALENDAR