BEGIN:VCALENDAR
PRODID:-//Feedo Feed//NONSGML v1.0//EN
VERSION:2.0
CALSCALE:GREGORIAN
METHOD:PUBLISH
X-WR-CALNAME:Rhys Robinson
X-WR-CALDESC:
X-MS-OLK-FORCEINSPECTOROPEN:TRUE
BEGIN:VEVENT
DTSTAMP:20260422T115653Z
DTSTART:20210614T153000Z
DTEND:20210614T160000Z
TRANSP:TRANSPARENT
UID:956512021-06-14
SUMMARY:Rhys Robinson
DESCRIPTION:
URL:http://www.cmcatlanta.com/index.php/component/ohanah/rhys-robinson-1?format=html&amp;Itemid=
CATEGORIES:Pedro Morales
GEO:33.7646878;-84.35068100000001
LOCATION:CMC Little 5 Points, Private Lesson
END:VEVENT
END:VCALENDAR