BEGIN:VCALENDAR
PRODID:-//Feedo Feed//NONSGML v1.0//EN
VERSION:2.0
CALSCALE:GREGORIAN
METHOD:PUBLISH
X-WR-CALNAME:Riley Waters
X-WR-CALDESC:
X-MS-OLK-FORCEINSPECTOROPEN:TRUE
BEGIN:VEVENT
DTSTAMP:20260424T084703Z
DTSTART:20170930T143000Z
DTEND:20170930T150000Z
TRANSP:TRANSPARENT
UID:505962017-09-30
SUMMARY:Riley Waters
DESCRIPTION:
URL:http://www.cmcatlanta.com/index.php/component/ohanah/riley-waters-8?format=html&amp;Itemid=
CATEGORIES:Pedro Morales
GEO:33.7704955;-84.29584339999997
LOCATION:CMC Decatur, Private Lesson
END:VEVENT
END:VCALENDAR