BEGIN:VCALENDAR
PRODID:-//Feedo Feed//NONSGML v1.0//EN
VERSION:2.0
CALSCALE:GREGORIAN
METHOD:PUBLISH
X-WR-CALNAME:Rowan Gottschalk
X-WR-CALDESC:
X-MS-OLK-FORCEINSPECTOROPEN:TRUE
BEGIN:VEVENT
DTSTAMP:20260424T053705Z
DTSTART:20180215T210000Z
DTEND:20180215T211500Z
TRANSP:TRANSPARENT
UID:592982018-02-15
SUMMARY:Rowan Gottschalk
DESCRIPTION:
URL:http://www.cmcatlanta.com/index.php/component/ohanah/rowan-gottschalk-21?format=html&amp;Itemid=
CATEGORIES:HyeJung Jun
GEO:33.9462125;-84.33464730000003
LOCATION:CMC Dunwoody, Private Lesson
END:VEVENT
END:VCALENDAR