BEGIN:VCALENDAR
PRODID:-//Feedo Feed//NONSGML v1.0//EN
VERSION:2.0
CALSCALE:GREGORIAN
METHOD:PUBLISH
X-WR-CALNAME:Ryan Ghalichechian
X-WR-CALDESC:
X-MS-OLK-FORCEINSPECTOROPEN:TRUE
BEGIN:VEVENT
DTSTAMP:20260423T074505Z
DTSTART:20211216T150000Z
DTEND:20211216T153000Z
TRANSP:TRANSPARENT
UID:1010872021-12-16
SUMMARY:Ryan Ghalichechian
DESCRIPTION:
URL:http://www.cmcatlanta.com/index.php/component/ohanah/ryan-ghalichechian-17?format=html&amp;Itemid=
CATEGORIES:Scott Plato
GEO:
LOCATION:
END:VEVENT
END:VCALENDAR