BEGIN:VCALENDAR
PRODID:-//Feedo Feed//NONSGML v1.0//EN
VERSION:2.0
CALSCALE:GREGORIAN
METHOD:PUBLISH
X-WR-CALNAME:Ryan Ghalichechian
X-WR-CALDESC:
X-MS-OLK-FORCEINSPECTOROPEN:TRUE
BEGIN:VEVENT
DTSTAMP:20260423T062508Z
DTSTART:20220113T150000Z
DTEND:20220113T153000Z
TRANSP:TRANSPARENT
UID:1010912022-01-13
SUMMARY:Ryan Ghalichechian
DESCRIPTION:
URL:http://www.cmcatlanta.com/index.php/component/ohanah/ryan-ghalichechian-21?format=html&amp;Itemid=
CATEGORIES:Scott Plato
GEO:
LOCATION:
END:VEVENT
END:VCALENDAR