BEGIN:VCALENDAR
PRODID:-//Feedo Feed//NONSGML v1.0//EN
VERSION:2.0
CALSCALE:GREGORIAN
METHOD:PUBLISH
X-WR-CALNAME:Ryan Shaib
X-WR-CALDESC:
X-MS-OLK-FORCEINSPECTOROPEN:TRUE
BEGIN:VEVENT
DTSTAMP:20260423T005050Z
DTSTART:20210806T204500Z
DTEND:20210806T211500Z
TRANSP:TRANSPARENT
UID:967372021-08-06
SUMMARY:Ryan Shaib
DESCRIPTION:
URL:http://www.cmcatlanta.com/index.php/component/ohanah/ryan-shaib-43?format=html&amp;Itemid=
CATEGORIES:Stephen Pepper
GEO:33.7704955;-84.29584339999997
LOCATION:CMC Decatur, Private Lesson
END:VEVENT
END:VCALENDAR