BEGIN:VCALENDAR
PRODID:-//Feedo Feed//NONSGML v1.0//EN
VERSION:2.0
CALSCALE:GREGORIAN
METHOD:PUBLISH
X-WR-CALNAME:Saachi Shenoy
X-WR-CALDESC:
X-MS-OLK-FORCEINSPECTOROPEN:TRUE
BEGIN:VEVENT
DTSTAMP:20260423T223155Z
DTSTART:20171012T190000Z
DTEND:20171012T193000Z
TRANSP:TRANSPARENT
UID:537052017-10-12
SUMMARY:Saachi Shenoy
DESCRIPTION:
URL:http://www.cmcatlanta.com/index.php/component/ohanah/saachi-shenoy-6?format=html&amp;Itemid=
CATEGORIES:HyeJung Jun
GEO:33.9462125;-84.33464730000003
LOCATION:CMC Dunwoody, Private Lesson
END:VEVENT
END:VCALENDAR