BEGIN:VCALENDAR
PRODID:-//Feedo Feed//NONSGML v1.0//EN
VERSION:2.0
CALSCALE:GREGORIAN
METHOD:PUBLISH
X-WR-CALNAME:Sajan Shah 
X-WR-CALDESC:
X-MS-OLK-FORCEINSPECTOROPEN:TRUE
BEGIN:VEVENT
DTSTAMP:20260421T194007Z
DTSTART:20210128T190000Z
DTEND:20210128T193000Z
TRANSP:TRANSPARENT
UID:899642021-01-28
SUMMARY:Sajan Shah 
DESCRIPTION:
URL:http://www.cmcatlanta.com/index.php/component/ohanah/sajan-shah-8-20-start-21?format=html&amp;Itemid=
CATEGORIES:Peter Sloan
GEO:33.7704955;-84.29584339999997
LOCATION:CMC Decatur, Private Lesson
END:VEVENT
END:VCALENDAR