BEGIN:VCALENDAR
PRODID:-//Feedo Feed//NONSGML v1.0//EN
VERSION:2.0
CALSCALE:GREGORIAN
METHOD:PUBLISH
X-WR-CALNAME:Sandro Mendes
X-WR-CALDESC:Guitar and theory lesson.  Sandro is part of the Atlanta Music High School program.  
X-MS-OLK-FORCEINSPECTOROPEN:TRUE
BEGIN:VEVENT
DTSTAMP:20260423T034455Z
DTSTART:20210831T173000Z
DTEND:20210831T183000Z
TRANSP:TRANSPARENT
UID:1007912021-08-31
SUMMARY:Sandro Mendes
DESCRIPTION:Guitar and theory lesson.  Sandro is part of the Atlanta Music High School program.  
URL:http://www.cmcatlanta.com/index.php/component/ohanah/sandro-mendes-1-2?format=html&amp;Itemid=
CATEGORIES:Pedro Morales
GEO:33.9462125;-84.33464730000003
LOCATION:CMC Dunwoody, Private Lesson
END:VEVENT
END:VCALENDAR