BEGIN:VCALENDAR
PRODID:-//Feedo Feed//NONSGML v1.0//EN
VERSION:2.0
CALSCALE:GREGORIAN
METHOD:PUBLISH
X-WR-CALNAME:Sarah Willis ABSENT
X-WR-CALDESC:
X-MS-OLK-FORCEINSPECTOROPEN:TRUE
BEGIN:VEVENT
DTSTAMP:20260422T202118Z
DTSTART:20210719T040000Z
DTEND:20210724T220000Z
TRANSP:TRANSPARENT
UID:955192021-07-19
SUMMARY:Sarah Willis ABSENT
DESCRIPTION:
URL:http://www.cmcatlanta.com/index.php/component/ohanah/sarah-willis-absent?format=html&amp;Itemid=
CATEGORIES:Whittaker Dallas
GEO:33.94902;-84.33631689999999
LOCATION:CMC Dunwoody, Faculty Assignment
END:VEVENT
END:VCALENDAR