BEGIN:VCALENDAR
PRODID:-//Feedo Feed//NONSGML v1.0//EN
VERSION:2.0
CALSCALE:GREGORIAN
METHOD:PUBLISH
X-WR-CALNAME:Sarah Willis Approved Absence
X-WR-CALDESC:
X-MS-OLK-FORCEINSPECTOROPEN:TRUE
BEGIN:VEVENT
DTSTAMP:20260424T123113Z
DTSTART:20230727T230000Z
DTEND:20230728T050000Z
TRANSP:TRANSPARENT
UID:1114602023-07-28
SUMMARY:Sarah Willis Approved Absence
DESCRIPTION:
URL:http://www.cmcatlanta.com/index.php/component/ohanah/sarah-willis-approved-absence-14?format=html&amp;Itemid=
CATEGORIES:Whittaker Dallas
GEO:
LOCATION:
END:VEVENT
END:VCALENDAR