BEGIN:VCALENDAR
PRODID:-//Feedo Feed//NONSGML v1.0//EN
VERSION:2.0
CALSCALE:GREGORIAN
METHOD:PUBLISH
X-WR-CALNAME:Sarah Willis Approved Absence
X-WR-CALDESC:
X-MS-OLK-FORCEINSPECTOROPEN:TRUE
BEGIN:VEVENT
DTSTAMP:20260424T133458Z
DTSTART:20230718T230000Z
DTEND:20230719T050000Z
TRANSP:TRANSPARENT
UID:1114062023-07-19
SUMMARY:Sarah Willis Approved Absence
DESCRIPTION:
URL:http://www.cmcatlanta.com/index.php/component/ohanah/sarah-willis-approved-absence-7?format=html&amp;Itemid=
CATEGORIES:Whittaker Dallas
GEO:
LOCATION:
END:VEVENT
END:VCALENDAR