BEGIN:VCALENDAR
PRODID:-//Feedo Feed//NONSGML v1.0//EN
VERSION:2.0
CALSCALE:GREGORIAN
METHOD:PUBLISH
X-WR-CALNAME:Sasha Hyde
X-WR-CALDESC:In person.\n \nKindergarten, new to the center.  Her brother Dylan has been taking lessons with us for 5 years. 
X-MS-OLK-FORCEINSPECTOROPEN:TRUE
BEGIN:VEVENT
DTSTAMP:20260420T161721Z
DTSTART:20210125T213000Z
DTEND:20210125T220000Z
TRANSP:TRANSPARENT
UID:918282021-01-25
SUMMARY:Sasha Hyde
DESCRIPTION:In person.\n \nKindergarten, new to the center.  Her brother Dylan has been taking lessons with us for 5 years. 
URL:http://www.cmcatlanta.com/index.php/component/ohanah/sasha-hyde-16-22?format=html&amp;Itemid=
CATEGORIES:Peter Sloan
GEO:33.7646878;-84.35068100000001
LOCATION:CMC Little 5 Points, Private Lesson
END:VEVENT
END:VCALENDAR