BEGIN:VCALENDAR
PRODID:-//Feedo Feed//NONSGML v1.0//EN
VERSION:2.0
CALSCALE:GREGORIAN
METHOD:PUBLISH
X-WR-CALNAME:Savannah Sewell
X-WR-CALDESC:
X-MS-OLK-FORCEINSPECTOROPEN:TRUE
BEGIN:VEVENT
DTSTAMP:20260420T182836Z
DTSTART:20201116T190000Z
DTEND:20201116T193000Z
TRANSP:TRANSPARENT
UID:945262020-11-16
SUMMARY:Savannah Sewell
DESCRIPTION:
URL:http://www.cmcatlanta.com/index.php/component/ohanah/savannah-sewell-3?format=html&amp;Itemid=
CATEGORIES:Peter Sloan
GEO:33.7646878;-84.35068100000001
LOCATION:CMC Little 5 Points, Private Lesson
END:VEVENT
END:VCALENDAR