BEGIN:VCALENDAR
PRODID:-//Feedo Feed//NONSGML v1.0//EN
VERSION:2.0
CALSCALE:GREGORIAN
METHOD:PUBLISH
X-WR-CALNAME:School House Rock Camp Decatur
X-WR-CALDESC:
X-MS-OLK-FORCEINSPECTOROPEN:TRUE
BEGIN:VEVENT
DTSTAMP:20260421T161418Z
DTSTART:20220715T160000Z
DTEND:20220715T220000Z
TRANSP:TRANSPARENT
UID:1062112022-07-15
SUMMARY:School House Rock Camp Decatur
DESCRIPTION:
URL:http://www.cmcatlanta.com/index.php/component/ohanah/school-house-rock-camp-decatur-14?format=html&amp;Itemid=
CATEGORIES:Stephanie Cordoba 
GEO:33.7705095;-84.29586770000003
LOCATION:CMC Decatur, Faculty Assignment
END:VEVENT
END:VCALENDAR