BEGIN:VCALENDAR
PRODID:-//Feedo Feed//NONSGML v1.0//EN
VERSION:2.0
CALSCALE:GREGORIAN
METHOD:PUBLISH
X-WR-CALNAME:Schoolhouse Rock Piano Accompaniment 
X-WR-CALDESC:
X-MS-OLK-FORCEINSPECTOROPEN:TRUE
BEGIN:VEVENT
DTSTAMP:20260423T005729Z
DTSTART:20210716T150000Z
DTEND:20210716T154500Z
TRANSP:TRANSPARENT
UID:960132021-07-16
SUMMARY:Schoolhouse Rock Piano Accompaniment 
DESCRIPTION:
URL:http://www.cmcatlanta.com/index.php/component/ohanah/schoolhouse-rock-piano-accompaniment-2-1?format=html&amp;Itemid=
CATEGORIES:Peter Sloan
GEO:33.7705095;-84.29586770000003
LOCATION:CMC Decatur, Faculty Assignment
END:VEVENT
END:VCALENDAR