BEGIN:VCALENDAR
PRODID:-//Feedo Feed//NONSGML v1.0//EN
VERSION:2.0
CALSCALE:GREGORIAN
METHOD:PUBLISH
X-WR-CALNAME:Shilah Ferguson
X-WR-CALDESC:
X-MS-OLK-FORCEINSPECTOROPEN:TRUE
BEGIN:VEVENT
DTSTAMP:20260422T072257Z
DTSTART:20200811T193000Z
DTEND:20200811T200000Z
TRANSP:TRANSPARENT
UID:898512020-08-11
SUMMARY:Shilah Ferguson
DESCRIPTION:
URL:http://www.cmcatlanta.com/index.php/component/ohanah/shilah-ferguson-21?format=html&amp;Itemid=
CATEGORIES:Peter Sloan
GEO:33.7704955;-84.29584339999997
LOCATION:CMC Decatur, Private Lesson
END:VEVENT
END:VCALENDAR