BEGIN:VCALENDAR
PRODID:-//Feedo Feed//NONSGML v1.0//EN
VERSION:2.0
CALSCALE:GREGORIAN
METHOD:PUBLISH
X-WR-CALNAME:Simon Kitchen
X-WR-CALDESC:
X-MS-OLK-FORCEINSPECTOROPEN:TRUE
BEGIN:VEVENT
DTSTAMP:20260422T092533Z
DTSTART:20230125T200000Z
DTEND:20230125T203000Z
TRANSP:TRANSPARENT
UID:1101092023-01-25
SUMMARY:Simon Kitchen
DESCRIPTION:
URL:http://www.cmcatlanta.com/index.php/component/ohanah/simon-kitchen-and-audrey-morrison-13?format=html&amp;Itemid=
CATEGORIES:Brock Tammeus
GEO:33.7704955;-84.29584339999997
LOCATION:CMC Decatur, Private Lesson
END:VEVENT
END:VCALENDAR