BEGIN:VCALENDAR
PRODID:-//Feedo Feed//NONSGML v1.0//EN
VERSION:2.0
CALSCALE:GREGORIAN
METHOD:PUBLISH
X-WR-CALNAME:Small ensemble and classes
X-WR-CALDESC:
X-MS-OLK-FORCEINSPECTOROPEN:TRUE
BEGIN:VEVENT
DTSTAMP:20260424T042956Z
DTSTART:20170925T150000Z
DTEND:20170925T163000Z
TRANSP:TRANSPARENT
UID:593532017-09-25
SUMMARY:Small ensemble and classes
DESCRIPTION:
URL:http://www.cmcatlanta.com/index.php/component/ohanah/small-ensemble-and-classes-1?format=html&amp;Itemid=
CATEGORIES:Jenn Cornell
GEO:
LOCATION:CMC Brookhaven, Faculty Assignment
END:VEVENT
END:VCALENDAR