BEGIN:VCALENDAR
PRODID:-//Feedo Feed//NONSGML v1.0//EN
VERSION:2.0
CALSCALE:GREGORIAN
METHOD:PUBLISH
X-WR-CALNAME:Small Group Skills
X-WR-CALDESC:
X-MS-OLK-FORCEINSPECTOROPEN:TRUE
BEGIN:VEVENT
DTSTAMP:20260422T185500Z
DTSTART:20210712T170000Z
DTEND:20210712T173000Z
TRANSP:TRANSPARENT
UID:960032021-07-12
SUMMARY:Small Group Skills
DESCRIPTION:
URL:http://www.cmcatlanta.com/index.php/component/ohanah/small-group-skills-8?format=html&amp;Itemid=
CATEGORIES:Peter Sloan
GEO:33.7705095;-84.29586770000003
LOCATION:CMC Decatur, Faculty Assignment
END:VEVENT
END:VCALENDAR