BEGIN:VCALENDAR
PRODID:-//Feedo Feed//NONSGML v1.0//EN
VERSION:2.0
CALSCALE:GREGORIAN
METHOD:PUBLISH
X-WR-CALNAME:small group skills
X-WR-CALDESC:Take 2-3 kids of like ability and work on skills together
X-MS-OLK-FORCEINSPECTOROPEN:TRUE
BEGIN:VEVENT
DTSTAMP:20260422T131600Z
DTSTART:20210615T170000Z
DTEND:20210615T180000Z
TRANSP:TRANSPARENT
UID:956572021-06-15
SUMMARY:small group skills
DESCRIPTION:Take 2-3 kids of like ability and work on skills together
URL:http://www.cmcatlanta.com/index.php/component/ohanah/small-group-skills?format=html&amp;Itemid=
CATEGORIES:2013 Student Roster: Assignment Folder
GEO:33.764702;-84.35057239999998
LOCATION:CMC Little Five Points, Faculty Assignment
END:VEVENT
END:VCALENDAR