BEGIN:VCALENDAR
PRODID:-//Feedo Feed//NONSGML v1.0//EN
VERSION:2.0
CALSCALE:GREGORIAN
METHOD:PUBLISH
X-WR-CALNAME:Sophia D'Elena
X-WR-CALDESC:in person
X-MS-OLK-FORCEINSPECTOROPEN:TRUE
BEGIN:VEVENT
DTSTAMP:20260421T143423Z
DTSTART:20210419T200000Z
DTEND:20210419T203000Z
TRANSP:TRANSPARENT
UID:926522021-04-19
SUMMARY:Sophia D'Elena
DESCRIPTION:in person
URL:http://www.cmcatlanta.com/index.php/component/ohanah/sophia-d-elena-35-7?format=html&amp;Itemid=
CATEGORIES:Brock Tammeus
GEO:33.7704955;-84.29584339999997
LOCATION:CMC Decatur, Private Lesson
END:VEVENT
END:VCALENDAR