BEGIN:VCALENDAR
PRODID:-//Feedo Feed//NONSGML v1.0//EN
VERSION:2.0
CALSCALE:GREGORIAN
METHOD:PUBLISH
X-WR-CALNAME:Sophia Pryblyski
X-WR-CALDESC:
X-MS-OLK-FORCEINSPECTOROPEN:TRUE
BEGIN:VEVENT
DTSTAMP:20260424T112052Z
DTSTART:20180417T163000Z
DTEND:20180417T170000Z
TRANSP:TRANSPARENT
UID:596372018-04-17
SUMMARY:Sophia Pryblyski
DESCRIPTION:
URL:http://www.cmcatlanta.com/index.php/component/ohanah/sophia-pryblyski-28?format=html&amp;Itemid=
CATEGORIES:Anna Dotsenko
GEO:
LOCATION:
END:VEVENT
END:VCALENDAR