BEGIN:VCALENDAR
PRODID:-//Feedo Feed//NONSGML v1.0//EN
VERSION:2.0
CALSCALE:GREGORIAN
METHOD:PUBLISH
X-WR-CALNAME:Sophia Pryblyski
X-WR-CALDESC:
X-MS-OLK-FORCEINSPECTOROPEN:TRUE
BEGIN:VEVENT
DTSTAMP:20260424T112132Z
DTSTART:20180515T163000Z
DTEND:20180515T170000Z
TRANSP:TRANSPARENT
UID:596412018-05-15
SUMMARY:Sophia Pryblyski
DESCRIPTION:
URL:http://www.cmcatlanta.com/index.php/component/ohanah/sophia-pryblyski-32?format=html&amp;Itemid=
CATEGORIES:Anna Dotsenko
GEO:
LOCATION:
END:VEVENT
END:VCALENDAR