BEGIN:VCALENDAR
PRODID:-//Feedo Feed//NONSGML v1.0//EN
VERSION:2.0
CALSCALE:GREGORIAN
METHOD:PUBLISH
X-WR-CALNAME:Spring Break Camp: April in Paris - Decatur
X-WR-CALDESC:April in Paris camp in Decatur and Dunwoody locations.  
X-MS-OLK-FORCEINSPECTOROPEN:TRUE
BEGIN:VEVENT
DTSTAMP:20260420T101204Z
DTSTART:20220404T070000Z
DTEND:20220408T170000Z
TRANSP:TRANSPARENT
UID:1054872022-04-04
SUMMARY:Spring Break Camp: April in Paris - Decatur
DESCRIPTION:April in Paris camp in Decatur and Dunwoody locations.  
URL:http://www.cmcatlanta.com/index.php/component/ohanah/spring-break-camp-april-in-paris-6?format=html&amp;Itemid=
CATEGORIES:Master Calendar
GEO:
LOCATION:CMC Decatur, Camp
END:VEVENT
END:VCALENDAR