BEGIN:VCALENDAR
PRODID:-//Feedo Feed//NONSGML v1.0//EN
VERSION:2.0
CALSCALE:GREGORIAN
METHOD:PUBLISH
X-WR-CALNAME:Spring Break 
X-WR-CALDESC:All lessons and classes canceled, all locations.  
X-MS-OLK-FORCEINSPECTOROPEN:TRUE
BEGIN:VEVENT
DTSTAMP:20260421T215150Z
DTSTART:20210405T040000Z
DTEND:20210411T220000Z
TRANSP:TRANSPARENT
UID:948282021-04-05
SUMMARY:Spring Break 
DESCRIPTION:All lessons and classes canceled, all locations.  
URL:http://www.cmcatlanta.com/index.php/component/ohanah/spring-break?format=html&amp;Itemid=
CATEGORIES:Master Calendar
GEO:33.7646878;-84.35068100000001
LOCATION:CMC Little 5 Points 
END:VEVENT
END:VCALENDAR