BEGIN:VCALENDAR
PRODID:-//Feedo Feed//NONSGML v1.0//EN
VERSION:2.0
CALSCALE:GREGORIAN
METHOD:PUBLISH
X-WR-CALNAME:Spring Semester Begins: Studio Lessons and AMP
X-WR-CALDESC:
X-MS-OLK-FORCEINSPECTOROPEN:TRUE
BEGIN:VEVENT
DTSTAMP:20260422T151811Z
DTSTART:20230103T100000Z
DTEND:20230103T100000Z
TRANSP:TRANSPARENT
UID:1060682023-01-03
SUMMARY:Spring Semester Begins: Studio Lessons and AMP
DESCRIPTION:
URL:http://www.cmcatlanta.com/index.php/component/ohanah/spring-semester-begins-studio-lessons-and-amp?format=html&amp;Itemid=
CATEGORIES:Master Calendar
GEO:33.7646878;-84.35068100000001
LOCATION:CMC Atlanta
END:VEVENT
END:VCALENDAR