BEGIN:VCALENDAR
PRODID:-//Feedo Feed//NONSGML v1.0//EN
VERSION:2.0
CALSCALE:GREGORIAN
METHOD:PUBLISH
X-WR-CALNAME:Spring Term lessons, classes, AMP resume, all locations
X-WR-CALDESC:
X-MS-OLK-FORCEINSPECTOROPEN:TRUE
BEGIN:VEVENT
DTSTAMP:20260425T002621Z
DTSTART:20220103T230000Z
DTEND:20220103T230000Z
TRANSP:TRANSPARENT
UID:1050412022-01-04
SUMMARY:Spring Term lessons, classes, AMP resume, all locations
DESCRIPTION:
URL:http://www.cmcatlanta.com/index.php/component/ohanah/spring-term-lessons-classes-amp-resume-all-locations?format=html&amp;Itemid=
CATEGORIES:Master Calendar
GEO:
LOCATION:
END:VEVENT
END:VCALENDAR