BEGIN:VCALENDAR
PRODID:-//Feedo Feed//NONSGML v1.0//EN
VERSION:2.0
CALSCALE:GREGORIAN
METHOD:PUBLISH
X-WR-CALNAME:Stephen Pepper Approved Absence
X-WR-CALDESC:
X-MS-OLK-FORCEINSPECTOROPEN:TRUE
BEGIN:VEVENT
DTSTAMP:20260424T161307Z
DTSTART:20230703T230000Z
DTEND:20230704T050000Z
TRANSP:TRANSPARENT
UID:1110832023-07-04
SUMMARY:Stephen Pepper Approved Absence
DESCRIPTION:
URL:http://www.cmcatlanta.com/index.php/component/ohanah/stephen-pepper-approved-absence-1?format=html&amp;Itemid=
CATEGORIES:Stephen Pepper
GEO:
LOCATION:
END:VEVENT
END:VCALENDAR