BEGIN:VCALENDAR
PRODID:-//Feedo Feed//NONSGML v1.0//EN
VERSION:2.0
CALSCALE:GREGORIAN
METHOD:PUBLISH
X-WR-CALNAME:String Camp Dunwoody
X-WR-CALDESC:
X-MS-OLK-FORCEINSPECTOROPEN:TRUE
BEGIN:VEVENT
DTSTAMP:20260421T164758Z
DTSTART:20220720T120000Z
DTEND:20220720T170000Z
TRANSP:TRANSPARENT
UID:1055752022-07-20
SUMMARY:String Camp Dunwoody
DESCRIPTION:
URL:http://www.cmcatlanta.com/index.php/component/ohanah/string-camp-27-2?format=html&amp;Itemid=
CATEGORIES:Johanna Millin
GEO:33.94902;-84.33631689999999
LOCATION:CMC Dunwoody, Faculty Assignment
END:VEVENT
END:VCALENDAR