BEGIN:VCALENDAR
PRODID:-//Feedo Feed//NONSGML v1.0//EN
VERSION:2.0
CALSCALE:GREGORIAN
METHOD:PUBLISH
X-WR-CALNAME:Summer Performance Workshop
X-WR-CALDESC:
X-MS-OLK-FORCEINSPECTOROPEN:TRUE
BEGIN:VEVENT
DTSTAMP:20260421T130240Z
DTSTART:20220622T160000Z
DTEND:20220622T220000Z
TRANSP:TRANSPARENT
UID:1059642022-06-22
SUMMARY:Summer Performance Workshop
DESCRIPTION:
URL:http://www.cmcatlanta.com/index.php/component/ohanah/summer-performance-workshop-141-2?format=html&amp;Itemid=
CATEGORIES:Brock Tammeus
GEO:33.764702;-84.35057239999998
LOCATION:CMC Little Five Points, Faculty Assignment
END:VEVENT
END:VCALENDAR