BEGIN:VCALENDAR
PRODID:-//Feedo Feed//NONSGML v1.0//EN
VERSION:2.0
CALSCALE:GREGORIAN
METHOD:PUBLISH
X-WR-CALNAME:Summer Performance Workshop Little 5 Points
X-WR-CALDESC:
X-MS-OLK-FORCEINSPECTOROPEN:TRUE
BEGIN:VEVENT
DTSTAMP:20260421T130354Z
DTSTART:20220617T170000Z
DTEND:20220617T190000Z
TRANSP:TRANSPARENT
UID:1059052022-06-17
SUMMARY:Summer Performance Workshop Little 5 Points
DESCRIPTION:
URL:http://www.cmcatlanta.com/index.php/component/ohanah/summer-performance-workshop-little-5-points-4?format=html&amp;Itemid=
CATEGORIES:Akeal Evans
GEO:33.764702;-84.35057239999998
LOCATION:CMC Little Five Points, Faculty Assignment
END:VEVENT
END:VCALENDAR