BEGIN:VCALENDAR
PRODID:-//Feedo Feed//NONSGML v1.0//EN
VERSION:2.0
CALSCALE:GREGORIAN
METHOD:PUBLISH
X-WR-CALNAME:Susana Harris
X-WR-CALDESC:online voice student
X-MS-OLK-FORCEINSPECTOROPEN:TRUE
BEGIN:VEVENT
DTSTAMP:20260422T054956Z
DTSTART:20201217T210000Z
DTEND:20201217T213000Z
TRANSP:TRANSPARENT
UID:914552020-12-17
SUMMARY:Susana Harris
DESCRIPTION:online voice student
URL:http://www.cmcatlanta.com/index.php/component/ohanah/susana-harris-17?format=html&amp;Itemid=
CATEGORIES:Stephen Pepper
GEO:33.7704955;-84.29584339999997
LOCATION:CMC Decatur, Private Lesson
END:VEVENT
END:VCALENDAR