BEGIN:VCALENDAR
PRODID:-//Feedo Feed//NONSGML v1.0//EN
VERSION:2.0
CALSCALE:GREGORIAN
METHOD:PUBLISH
X-WR-CALNAME:Sutton Roundtree
X-WR-CALDESC:
X-MS-OLK-FORCEINSPECTOROPEN:TRUE
BEGIN:VEVENT
DTSTAMP:20260424T184241Z
DTSTART:20230619T170000Z
DTEND:20230619T173000Z
TRANSP:TRANSPARENT
UID:1112862023-06-19
SUMMARY:Sutton Roundtree
DESCRIPTION:
URL:http://www.cmcatlanta.com/index.php/component/ohanah/sutton-roundtree?format=html&amp;Itemid=
CATEGORIES:Brock Tammeus
GEO:33.7646878;-84.35068100000001
LOCATION:CMC Little 5 Points, Private Lesson
END:VEVENT
END:VCALENDAR