BEGIN:VCALENDAR
PRODID:-//Feedo Feed//NONSGML v1.0//EN
VERSION:2.0
CALSCALE:GREGORIAN
METHOD:PUBLISH
X-WR-CALNAME:Taso Abdalla (trial piano lesson)
X-WR-CALDESC:4.5 year old.  
X-MS-OLK-FORCEINSPECTOROPEN:TRUE
BEGIN:VEVENT
DTSTAMP:20260423T210447Z
DTSTART:20210926T140000Z
DTEND:20210926T143000Z
TRANSP:TRANSPARENT
UID:1031182021-09-26
SUMMARY:Taso Abdalla (trial piano lesson)
DESCRIPTION:4.5 year old.  
URL:http://www.cmcatlanta.com/index.php/component/ohanah/taso-abdalla-trial-piano-lesson?format=html&amp;Itemid=
CATEGORIES:Stephen Pepper
GEO:33.9462125;-84.33464730000003
LOCATION:CMC Dunwoody, Private Lesson
END:VEVENT
END:VCALENDAR